BEGIN:VCALENDAR
VERSION:2.0
PRODID:icalendar-ruby
CALSCALE:GREGORIAN
METHOD:PUBLISH
BEGIN:VEVENT
DTSTAMP:20260420T051559Z
UID:365-303827@ministrycenter.church
DTSTART:20260809T140000Z
DTEND:20260809T170000Z
CLASS:PUBLIC
CREATED:20260409T115746
DESCRIPTION:
LAST-MODIFIED:20260409T115746
LOCATION:
SUMMARY:Membership Sunday
URL;VALUE=URI:https://ministrycenter.church/events/membership-sunday--365/2
 026-08-09
ATTACH;FILENAME=Membership-Sunday.png;FMTTYPE=image/png:https://dq5pwpg1q8r
 u0.cloudfront.net/2026/04/09/16/57/45/9dc837fd-61d8-4f74-a7cb-68ad731f8fb6
 /Membership-Sunday.png
END:VEVENT
END:VCALENDAR
